BEGIN:VCALENDAR
VERSION:2.0
PRODID:-//wp-events-plugin.com//7.2.3.1//EN
TZID:America/Los_Angeles
X-WR-TIMEZONE:America/Los_Angeles
BEGIN:VEVENT
UID:222@rrotrips.com
DTSTART;TZID=America/Los_Angeles;VALUE=DATE:20220902
DTEND;TZID=America/Los_Angeles;VALUE=DATE:20220905
DTSTAMP:20220404T180435Z
URL:https://www.rrotrips.com/events/rogue-river-canyon-fishing/
SUMMARY:Rogue River Canyon Fishing
DESCRIPTION:[widget-area id="Rogue"]
CATEGORIES:Fishing,Rogue River Canyon Steelhead
END:VEVENT
BEGIN:VTIMEZONE
TZID:America/Los_Angeles
X-LIC-LOCATION:America/Los_Angeles
BEGIN:DAYLIGHT
DTSTART:20220313T030000
TZOFFSETFROM:-0800
TZOFFSETTO:-0700
TZNAME:PDT
END:DAYLIGHT
END:VTIMEZONE
END:VCALENDAR